BEGIN:VCALENDAR
VERSION:2.0
PRODID:-//Camdalfc.org - ECPv6.15.20//NONSGML v1.0//EN
CALSCALE:GREGORIAN
METHOD:PUBLISH
X-WR-CALNAME:Camdalfc.org
X-ORIGINAL-URL:https://camdalfc.org
X-WR-CALDESC:Events for Camdalfc.org
REFRESH-INTERVAL;VALUE=DURATION:PT1H
X-Robots-Tag:noindex
X-PUBLISHED-TTL:PT1H
BEGIN:VTIMEZONE
TZID:UTC
BEGIN:STANDARD
TZOFFSETFROM:+0000
TZOFFSETTO:+0000
TZNAME:UTC
DTSTART:20250101T000000
END:STANDARD
END:VTIMEZONE
BEGIN:VEVENT
DTSTART;TZID=UTC:20260424T080000
DTEND;TZID=UTC:20260426T220000
DTSTAMP:20260423T150721
CREATED:20260226T230220Z
LAST-MODIFIED:20260306T193037Z
UID:4690-1777017600-1777240800@camdalfc.org
SUMMARY:CAMDAL FC 20 YEARS ANNIVERSARY
DESCRIPTION:
URL:https://camdalfc.org/event/camdal-fc-20-years-anniversary/
LOCATION:Premier Park Fields Soccer\, 1115 Elam Rd\, Balch Springs\, TX\, 75041\, United States
CATEGORIES:Social
END:VEVENT
BEGIN:VEVENT
DTSTART;TZID=UTC:20260523T080000
DTEND;TZID=UTC:20260525T170000
DTSTAMP:20260423T150721
CREATED:20260317T231014Z
LAST-MODIFIED:20260317T231014Z
UID:4863-1779523200-1779728400@camdalfc.org
SUMMARY:Southern Veteran Tournament (SVT)
DESCRIPTION:
URL:https://camdalfc.org/event/southern-veteran-tournament-svt/
LOCATION:San Antonio\, Texas\, San Antonio\, TX\, United States
CATEGORIES:Sports
END:VEVENT
BEGIN:VEVENT
DTSTART;TZID=UTC:20260712T160000
DTEND;TZID=UTC:20260712T200000
DTSTAMP:20260423T150721
CREATED:20260317T231315Z
LAST-MODIFIED:20260317T231316Z
UID:4865-1783872000-1783886400@camdalfc.org
SUMMARY:CAMDAL FC GENERAL ASSEMBLY
DESCRIPTION:
URL:https://camdalfc.org/event/camdal-fc-general-assembly-2/
CATEGORIES:Meeting
END:VEVENT
BEGIN:VEVENT
DTSTART;TZID=UTC:20260903T080000
DTEND;TZID=UTC:20260907T170000
DTSTAMP:20260423T150721
CREATED:20260317T231704Z
LAST-MODIFIED:20260317T231704Z
UID:4869-1788422400-1788800400@camdalfc.org
SUMMARY:NATIONAL VETERANS' TOURNAMENT
DESCRIPTION:
URL:https://camdalfc.org/event/national-veterans-tournament/
CATEGORIES:Sports
END:VEVENT
BEGIN:VEVENT
DTSTART;TZID=UTC:20260920T080000
DTEND;TZID=UTC:20260920T170000
DTSTAMP:20260423T150721
CREATED:20260317T231543Z
LAST-MODIFIED:20260317T231544Z
UID:4867-1789891200-1789923600@camdalfc.org
SUMMARY:ELECTION DAY! CAMDAL FC GENERAL ASSEMBLY
DESCRIPTION:
URL:https://camdalfc.org/event/election-day-camdal-fc-general-assembly/
CATEGORIES:Meeting
END:VEVENT
END:VCALENDAR